BEGIN:VCALENDAR
VERSION:2.0
PRODID:-//ChamberMaster//Event Calendar 2.0//EN
METHOD:PUBLISH
X-PUBLISHED-TTL:P1H
REFRESH-INTERVAL:P1H
CALSCALE:GREGORIAN
BEGIN:VTIMEZONE
TZID:America/Chicago
BEGIN:DAYLIGHT
RRULE:FREQ=YEARLY;BYMONTH=3;BYDAY=2SU
DTSTART:20070101T000000
TZOFFSETFROM:-0600
TZOFFSETTO:-0500
TZNAME:Central Daylight Time
END:DAYLIGHT
BEGIN:STANDARD
RRULE:FREQ=YEARLY;BYMONTH=11;BYDAY=1SU
DTSTART:20070101T000000
TZOFFSETFROM:-0500
TZOFFSETTO:-0600
TZNAME:Central Standard Time
END:STANDARD
END:VTIMEZONE
BEGIN:VEVENT
DTSTART;TZID=America/Chicago:20260224T093000
DTEND;TZID=America/Chicago:20260224T103058
X-MICROSOFT-CDO-ALLDAYEVENT:FALSE
SUMMARY:Ribbon Cutting at Hummingbirds Christian Learning Center
DESCRIPTION:We can't wait to see you as we join both the Greater Gibson County Area Chamber and Milan Chamber in a Ribbon Cutting Ceremony to celebrate the opening of Hummingbirds Christian Learning Center in Medina. Join us Tuesday\, February 24th at 9:30 at 227 N. 2nd Street in Medina.
X-ALT-DESC;FMTTYPE=text/html:<!DOCTYPE html><html><head><title></title></head><body aria-disabled="false"><p>We can&#39\;t wait to see you as we join both the Greater Gibson County Area Chamber and Milan Chamber in a Ribbon Cutting Ceremony to celebrate the opening of Hummingbirds Christian Learning Center in Medina. Join us Tuesday\, February 24th at 9:30 at 227 N. 2nd Street in Medina.</p></body></html>
LOCATION:PO Box 275 Medina TN 38355
UID:e.2734.1401542
SEQUENCE:3
DTSTAMP:20260420T103556Z
URL:https://business.humboldtchamber.com/events/Details/ribbon-cutting-at-hummingbirds-christian-learning-center-1656130?sourceTypeId=Hub
END:VEVENT
END:VCALENDAR
